BEGIN:VCALENDAR
PRODID:-//eluceo/ical//2.0/EN
VERSION:2.0
CALSCALE:GREGORIAN
BEGIN:VEVENT
UID:d6b92ef64f9b8db55b4aeafcdb6c1cde
DTSTAMP:20260419T235304Z
SUMMARY:NJC  Adult Enrichment
DESCRIPTION:Jewish Federation of Greater Naples\nCommunity Calendar\nhttps:
 //jewishnaples.org/calendar/calendar17385\n\nNJC  Adult Enrichment
DTSTART;TZID=America/New_York:20160410T103000
DTEND;TZID=America/New_York:20160410T103000
END:VEVENT
END:VCALENDAR
