BEGIN:VCALENDAR
PRODID:-//eluceo/ical//2.0/EN
VERSION:2.0
CALSCALE:GREGORIAN
BEGIN:VEVENT
UID:eaf51b368e58562c1bf1791cf4bf5e98
DTSTAMP:20260424T002118Z
SUMMARY:BT  Sunday School
DESCRIPTION:Jewish Federation of Greater Naples\nCommunity Calendar\nhttps:
 //jewishnaples.org/calendar/calendar17382\n\nBT  Sunday School
DTSTART;TZID=America/New_York:20160410T090000
DTEND;TZID=America/New_York:20160410T090000
END:VEVENT
END:VCALENDAR
