BEGIN:VCALENDAR
PRODID:-//eluceo/ical//2.0/EN
VERSION:2.0
CALSCALE:GREGORIAN
BEGIN:VEVENT
UID:ee1d6518a0505b1332e3676d6bb9629e
DTSTAMP:20260423T121028Z
SUMMARY:JCMI  Services
DESCRIPTION:Jewish Federation of Greater Naples\nCommunity Calendar\nhttps:
 //jewishnaples.org/calendar/calendar17377\n\nJCMI  Services
DTSTART;TZID=America/New_York:20160408T200000
DTEND;TZID=America/New_York:20160408T200000
END:VEVENT
END:VCALENDAR
