BEGIN:VCALENDAR
PRODID:-//eluceo/ical//2.0/EN
VERSION:2.0
CALSCALE:GREGORIAN
BEGIN:VEVENT
UID:94f2789e3f72e3fdad4bb8715f34dc9d
DTSTAMP:20260424T053459Z
SUMMARY:HM - Elliott Katz Lecture Series
DESCRIPTION:Jewish Federation of Greater Naples\nCommunity Calendar\nhttps:
 //jewishnaples.org/calendar/calendar17373\n\nHM - Elliott Katz Lecture Ser
 ies
DTSTART;TZID=America/New_York:20160407T180000
DTEND;TZID=America/New_York:20160407T180000
END:VEVENT
END:VCALENDAR
