BEGIN:VCALENDAR
PRODID:-//eluceo/ical//2.0/EN
VERSION:2.0
CALSCALE:GREGORIAN
BEGIN:VEVENT
UID:806e1b93eeff4f31d6662f6950938efd
DTSTAMP:20260423T145753Z
SUMMARY:TS  Rosh Chodesh
DESCRIPTION:Jewish Federation of Greater Naples\nCommunity Calendar\nhttps:
 //jewishnaples.org/calendar/calendar17371\n\nTS  Rosh Chodesh
DTSTART;TZID=America/New_York:20160407T173000
DTEND;TZID=America/New_York:20160407T173000
END:VEVENT
END:VCALENDAR
