BEGIN:VCALENDAR
PRODID:-//eluceo/ical//2.0/EN
VERSION:2.0
CALSCALE:GREGORIAN
BEGIN:VEVENT
UID:debed2fade885a400321b62dd7e9bce9
DTSTAMP:20260420T072136Z
SUMMARY:JCRC Meeting
DESCRIPTION:Jewish Federation of Greater Naples\nCommunity Calendar\nhttps:
 //jewishnaples.org/calendar/calendar17365\n\nJCRC Meeting
DTSTART;TZID=America/New_York:20160406T133000
DTEND;TZID=America/New_York:20160406T133000
END:VEVENT
END:VCALENDAR
