BEGIN:VCALENDAR
PRODID:-//eluceo/ical//2.0/EN
VERSION:2.0
CALSCALE:GREGORIAN
BEGIN:VEVENT
UID:198c48a1a97d48d10343e6af55ad4a42
DTSTAMP:20260423T012659Z
SUMMARY:TS - Yiddish Club Meeting
DESCRIPTION:Jewish Federation of Greater Naples\nCommunity Calendar\nhttps:
 //jewishnaples.org/calendar/calendar17358\n\nTS - Yiddish Club Meeting
DTSTART;TZID=America/New_York:20160405T100000
DTEND;TZID=America/New_York:20160405T100000
END:VEVENT
END:VCALENDAR
