BEGIN:VCALENDAR
PRODID:-//eluceo/ical//2.0/EN
VERSION:2.0
CALSCALE:GREGORIAN
BEGIN:VEVENT
UID:05a57769cf7a222fda0362d5b29db289
DTSTAMP:20260423T224203Z
SUMMARY:TS Services
DESCRIPTION:Jewish Federation of Greater Naples\nCommunity Calendar\nhttps:
 //jewishnaples.org/calendar/calendar17343\n\nTS Services
DTSTART;TZID=America/New_York:20160401T193000
DTEND;TZID=America/New_York:20160401T193000
END:VEVENT
END:VCALENDAR
