BEGIN:VCALENDAR
PRODID:-//eluceo/ical//2.0/EN
VERSION:2.0
CALSCALE:GREGORIAN
BEGIN:VEVENT
UID:e906531875d5f0d6992d9ed2e6d31b7f
DTSTAMP:20260423T114507Z
SUMMARY:TS  Shir Joy Shabbat
DESCRIPTION:Jewish Federation of Greater Naples\nCommunity Calendar\nhttps:
 //jewishnaples.org/calendar/calendar17341\n\nTS  Shir Joy Shabbat
DTSTART;TZID=America/New_York:20160401T183000
DTEND;TZID=America/New_York:20160401T183000
END:VEVENT
END:VCALENDAR
