BEGIN:VCALENDAR
PRODID:-//eluceo/ical//2.0/EN
VERSION:2.0
CALSCALE:GREGORIAN
BEGIN:VEVENT
UID:96a5ebccde2c63e31f57e63c8eddb897
DTSTAMP:20260423T224112Z
SUMMARY:Fed Star Editorial Deadline
DESCRIPTION:Jewish Federation of Greater Naples\nCommunity Calendar\nhttps:
 //jewishnaples.org/calendar/calendar17338\n\nFed Star Editorial Deadline
DTSTART;TZID=America/New_York:20160401T000000
DTEND;TZID=America/New_York:20160402T000000
END:VEVENT
END:VCALENDAR
