BEGIN:VCALENDAR
PRODID:-//eluceo/ical//2.0/EN
VERSION:2.0
CALSCALE:GREGORIAN
BEGIN:VEVENT
UID:5a53dc2ae0b94186aed669fb2c00acea
DTSTAMP:20260422T173546Z
SUMMARY:CHA  Hebrew School
DESCRIPTION:Jewish Federation of Greater Naples\nCommunity Calendar\nhttps:
 //jewishnaples.org/calendar/calendar17331\n\nCHA  Hebrew School
DTSTART;TZID=America/New_York:20160330T163000
DTEND;TZID=America/New_York:20160330T163000
END:VEVENT
END:VCALENDAR
