BEGIN:VCALENDAR
PRODID:-//eluceo/ical//2.0/EN
VERSION:2.0
CALSCALE:GREGORIAN
BEGIN:VEVENT
UID:4217284e1d05069c31d1deb49d07cb6c
DTSTAMP:20260424T064914Z
SUMMARY:BT  Sunday School
DESCRIPTION:Jewish Federation of Greater Naples\nCommunity Calendar\nhttps:
 //jewishnaples.org/calendar/calendar17319\n\nBT  Sunday School
DTSTART;TZID=America/New_York:20160327T090000
DTEND;TZID=America/New_York:20160327T090000
END:VEVENT
END:VCALENDAR
