BEGIN:VCALENDAR
PRODID:-//eluceo/ical//2.0/EN
VERSION:2.0
CALSCALE:GREGORIAN
BEGIN:VEVENT
UID:09e5a1a74f76e988a29e1b087be7a554
DTSTAMP:20260423T230021Z
SUMMARY:TS  Fundraising Celebration Event
DESCRIPTION:Jewish Federation of Greater Naples\nCommunity Calendar\nhttps:
 //jewishnaples.org/calendar/calendar17318\n\nTS  Fundraising Celebration E
 vent
DTSTART;TZID=America/New_York:20160326T190000
DTEND;TZID=America/New_York:20160326T190000
END:VEVENT
END:VCALENDAR
