BEGIN:VCALENDAR
PRODID:-//eluceo/ical//2.0/EN
VERSION:2.0
CALSCALE:GREGORIAN
BEGIN:VEVENT
UID:814649dd4f2bdd18b64b453ef55b3762
DTSTAMP:20260423T064622Z
SUMMARY:BT Services
DESCRIPTION:Jewish Federation of Greater Naples\nCommunity Calendar\nhttps:
 //jewishnaples.org/calendar/calendar17314\n\nBT Services
DTSTART;TZID=America/New_York:20160326T093000
DTEND;TZID=America/New_York:20160326T093000
END:VEVENT
END:VCALENDAR
