BEGIN:VCALENDAR
PRODID:-//eluceo/ical//2.0/EN
VERSION:2.0
CALSCALE:GREGORIAN
BEGIN:VEVENT
UID:dd2c8a39ce043872a4050714b3a56929
DTSTAMP:20260422T081436Z
SUMMARY:TS Services
DESCRIPTION:Jewish Federation of Greater Naples\nCommunity Calendar\nhttps:
 //jewishnaples.org/calendar/calendar17312\n\nTS Services
DTSTART;TZID=America/New_York:20160325T193000
DTEND;TZID=America/New_York:20160325T193000
END:VEVENT
END:VCALENDAR
