BEGIN:VCALENDAR
PRODID:-//eluceo/ical//2.0/EN
VERSION:2.0
CALSCALE:GREGORIAN
BEGIN:VEVENT
UID:a42577dccb83d24d61712fdbd6ac7761
DTSTAMP:20260424T104313Z
SUMMARY:BT Service
DESCRIPTION:Jewish Federation of Greater Naples\nCommunity Calendar\nhttps:
 //jewishnaples.org/calendar/calendar17310\n\nBT Service
DTSTART;TZID=America/New_York:20160325T181500
DTEND;TZID=America/New_York:20160325T181500
END:VEVENT
END:VCALENDAR
