BEGIN:VCALENDAR
PRODID:-//eluceo/ical//2.0/EN
VERSION:2.0
CALSCALE:GREGORIAN
BEGIN:VEVENT
UID:702b476145f509a0b933fa0dc8cabce9
DTSTAMP:20260424T002005Z
SUMMARY:TS  Preschool Closed
DESCRIPTION:Jewish Federation of Greater Naples\nCommunity Calendar\nhttps:
 //jewishnaples.org/calendar/calendar17309\n\nTS  Preschool Closed
DTSTART;TZID=America/New_York:20160325T090000
DTEND;TZID=America/New_York:20160325T090000
END:VEVENT
END:VCALENDAR
