BEGIN:VCALENDAR
PRODID:-//eluceo/ical//2.0/EN
VERSION:2.0
CALSCALE:GREGORIAN
BEGIN:VEVENT
UID:f7cf6044cd69fd49d03eb1b3eb2abab8
DTSTAMP:20260423T211320Z
SUMMARY:CHA  Men's Club
DESCRIPTION:Jewish Federation of Greater Naples\nCommunity Calendar\nhttps:
 //jewishnaples.org/calendar/calendar17305\n\nCHA  Men's Club
DTSTART;TZID=America/New_York:20160324T113000
DTEND;TZID=America/New_York:20160324T113000
END:VEVENT
END:VCALENDAR
