BEGIN:VCALENDAR
PRODID:-//eluceo/ical//2.0/EN
VERSION:2.0
CALSCALE:GREGORIAN
BEGIN:VEVENT
UID:1b18300d2a34164cd1fefd7b98fc9c3b
DTSTAMP:20260421T165819Z
SUMMARY:BT  Erev Purim Service
DESCRIPTION:Jewish Federation of Greater Naples\nCommunity Calendar\nhttps:
 //jewishnaples.org/calendar/calendar17299\n\nBT  Erev Purim Service
DTSTART;TZID=America/New_York:20160323T183000
DTEND;TZID=America/New_York:20160323T183000
END:VEVENT
END:VCALENDAR
