BEGIN:VCALENDAR
PRODID:-//eluceo/ical//2.0/EN
VERSION:2.0
CALSCALE:GREGORIAN
BEGIN:VEVENT
UID:c50f25dcf0b329c7ac61811d294eddbd
DTSTAMP:20260423T101400Z
SUMMARY:TS  Megillah Reading
DESCRIPTION:Jewish Federation of Greater Naples\nCommunity Calendar\nhttps:
 //jewishnaples.org/calendar/calendar17298\n\nTS  Megillah Reading
DTSTART;TZID=America/New_York:20160323T180000
DTEND;TZID=America/New_York:20160323T180000
END:VEVENT
END:VCALENDAR
