BEGIN:VCALENDAR
PRODID:-//eluceo/ical//2.0/EN
VERSION:2.0
CALSCALE:GREGORIAN
BEGIN:VEVENT
UID:fd0f78756654cd4f05f882f990bec6e0
DTSTAMP:20260424T001127Z
SUMMARY:TS  Hebrew School
DESCRIPTION:Jewish Federation of Greater Naples\nCommunity Calendar\nhttps:
 //jewishnaples.org/calendar/calendar17297\n\nTS  Hebrew School
DTSTART;TZID=America/New_York:20160323T163000
DTEND;TZID=America/New_York:20160323T163000
END:VEVENT
END:VCALENDAR
