BEGIN:VCALENDAR
PRODID:-//eluceo/ical//2.0/EN
VERSION:2.0
CALSCALE:GREGORIAN
BEGIN:VEVENT
UID:a4d757bfd04ea9344b6cba5b85802140
DTSTAMP:20260422T202902Z
SUMMARY:BT  Hebrew School
DESCRIPTION:Jewish Federation of Greater Naples\nCommunity Calendar\nhttps:
 //jewishnaples.org/calendar/calendar17295\n\nBT  Hebrew School
DTSTART;TZID=America/New_York:20160323T163000
DTEND;TZID=America/New_York:20160323T163000
END:VEVENT
END:VCALENDAR
