BEGIN:VCALENDAR
PRODID:-//eluceo/ical//2.0/EN
VERSION:2.0
CALSCALE:GREGORIAN
BEGIN:VEVENT
UID:158c2e97ad2d252fecf4bb6e89887675
DTSTAMP:20260422T155149Z
SUMMARY:Erev Purim
DESCRIPTION:Jewish Federation of Greater Naples\nCommunity Calendar\nhttps:
 //jewishnaples.org/calendar/calendar17290\n\nErev Purim
DTSTART;TZID=America/New_York:20160323T000000
DTEND;TZID=America/New_York:20160324T000000
END:VEVENT
END:VCALENDAR
