BEGIN:VCALENDAR
PRODID:-//eluceo/ical//2.0/EN
VERSION:2.0
CALSCALE:GREGORIAN
BEGIN:VEVENT
UID:48f8507c4ccfd2fb296173099ab9c67c
DTSTAMP:20260422T194325Z
SUMMARY:JCMI   Duplicate Bridge
DESCRIPTION:Jewish Federation of Greater Naples\nCommunity Calendar\nhttps:
 //jewishnaples.org/calendar/calendar17287\n\nJCMI   Duplicate Bridge
DTSTART;TZID=America/New_York:20160322T130000
DTEND;TZID=America/New_York:20160322T130000
END:VEVENT
END:VCALENDAR
