BEGIN:VCALENDAR
PRODID:-//eluceo/ical//2.0/EN
VERSION:2.0
CALSCALE:GREGORIAN
BEGIN:VEVENT
UID:6d0a39984efe0b35aacb3de2a1177000
DTSTAMP:20260420T021310Z
SUMMARY:BT  Rabbi's Study Course
DESCRIPTION:Jewish Federation of Greater Naples\nCommunity Calendar\nhttps:
 //jewishnaples.org/calendar/calendar17286\n\nBT  Rabbi's Study Course
DTSTART;TZID=America/New_York:20160322T121500
DTEND;TZID=America/New_York:20160322T121500
END:VEVENT
END:VCALENDAR
