BEGIN:VCALENDAR
PRODID:-//eluceo/ical//2.0/EN
VERSION:2.0
CALSCALE:GREGORIAN
BEGIN:VEVENT
UID:6f21d59c4e02495cd047634a833c9dc0
DTSTAMP:20260420T222112Z
SUMMARY:JCMI  Bingo
DESCRIPTION:Jewish Federation of Greater Naples\nCommunity Calendar\nhttps:
 //jewishnaples.org/calendar/calendar17285\n\nJCMI  Bingo
DTSTART;TZID=America/New_York:20160321T173000
DTEND;TZID=America/New_York:20160321T173000
END:VEVENT
END:VCALENDAR
