BEGIN:VCALENDAR
PRODID:-//eluceo/ical//2.0/EN
VERSION:2.0
CALSCALE:GREGORIAN
BEGIN:VEVENT
UID:0ca8952cd523ce0f498cd6b174bea85b
DTSTAMP:20260423T070048Z
SUMMARY:HDH Daytime Study Group - TS
DESCRIPTION:Jewish Federation of Greater Naples\nCommunity Calendar\nhttps:
 //jewishnaples.org/calendar/calendar17284\n\nHDH Daytime Study Group - TS
DTSTART;TZID=America/New_York:20160321T130000
DTEND;TZID=America/New_York:20160321T130000
END:VEVENT
END:VCALENDAR
