BEGIN:VCALENDAR
PRODID:-//eluceo/ical//2.0/EN
VERSION:2.0
CALSCALE:GREGORIAN
BEGIN:VEVENT
UID:de2ba80c3f87e77ecbabfbe4b4923e64
DTSTAMP:20260422T053910Z
SUMMARY:TS  Preschool Re-Opens
DESCRIPTION:Jewish Federation of Greater Naples\nCommunity Calendar\nhttps:
 //jewishnaples.org/calendar/calendar17281\n\nTS  Preschool Re-Opens
DTSTART;TZID=America/New_York:20160321T090000
DTEND;TZID=America/New_York:20160321T090000
END:VEVENT
END:VCALENDAR
