BEGIN:VCALENDAR
PRODID:-//eluceo/ical//2.0/EN
VERSION:2.0
CALSCALE:GREGORIAN
BEGIN:VEVENT
UID:631d1a9c672896b9595cdc598565406e
DTSTAMP:20260422T221641Z
SUMMARY:GenShoah Film Presentation   
DESCRIPTION:Jewish Federation of Greater Naples\nCommunity Calendar\nhttps:
 //jewishnaples.org/calendar/calendar17279\n\nGenShoah Film Presentation
DTSTART;TZID=America/New_York:20160320T170000
DTEND;TZID=America/New_York:20160320T170000
END:VEVENT
END:VCALENDAR
