BEGIN:VCALENDAR
PRODID:-//eluceo/ical//2.0/EN
VERSION:2.0
CALSCALE:GREGORIAN
BEGIN:VEVENT
UID:eae2aea7fbf24669eb9e128022c108de
DTSTAMP:20260424T122904Z
SUMMARY:JCMI  Film Festival  Festival
DESCRIPTION:Jewish Federation of Greater Naples\nCommunity Calendar\nhttps:
 //jewishnaples.org/calendar/calendar17277\n\nJCMI  Film Festival  Festival
DTSTART;TZID=America/New_York:20160320T140000
DTEND;TZID=America/New_York:20160320T140000
END:VEVENT
END:VCALENDAR
