BEGIN:VCALENDAR
PRODID:-//eluceo/ical//2.0/EN
VERSION:2.0
CALSCALE:GREGORIAN
BEGIN:VEVENT
UID:0b246269907a2d56e042097464357c3c
DTSTAMP:20260423T080109Z
SUMMARY:TS Purim Shpiel
DESCRIPTION:Jewish Federation of Greater Naples\nCommunity Calendar\nhttps:
 //jewishnaples.org/calendar/calendar17275\n\nTS Purim Shpiel
DTSTART;TZID=America/New_York:20160320T110000
DTEND;TZID=America/New_York:20160320T110000
END:VEVENT
END:VCALENDAR
