BEGIN:VCALENDAR
PRODID:-//eluceo/ical//2.0/EN
VERSION:2.0
CALSCALE:GREGORIAN
BEGIN:VEVENT
UID:f022aae2c90afe7aa71f99003174b652
DTSTAMP:20260423T015956Z
SUMMARY:JWV Monthly Meeting
DESCRIPTION:Jewish Federation of Greater Naples\nCommunity Calendar\nhttps:
 //jewishnaples.org/calendar/calendar17273\n\nJWV Monthly Meeting
DTSTART;TZID=America/New_York:20160320T093000
DTEND;TZID=America/New_York:20160320T093000
END:VEVENT
END:VCALENDAR
