BEGIN:VCALENDAR
PRODID:-//eluceo/ical//2.0/EN
VERSION:2.0
CALSCALE:GREGORIAN
BEGIN:VEVENT
UID:2492fb38c9b71d9fb7ba2e40f3949758
DTSTAMP:20260423T091255Z
SUMMARY:BT Sunday Minyan
DESCRIPTION:Jewish Federation of Greater Naples\nCommunity Calendar\nhttps:
 //jewishnaples.org/calendar/calendar17272\n\nBT Sunday Minyan
DTSTART;TZID=America/New_York:20160320T090000
DTEND;TZID=America/New_York:20160320T090000
END:VEVENT
END:VCALENDAR
