BEGIN:VCALENDAR
PRODID:-//eluceo/ical//2.0/EN
VERSION:2.0
CALSCALE:GREGORIAN
BEGIN:VEVENT
UID:33310a1f1e9c12766b8f22cb80a91925
DTSTAMP:20260423T110538Z
SUMMARY:BBYO  Youth Activity
DESCRIPTION:Jewish Federation of Greater Naples\nCommunity Calendar\nhttps:
 //jewishnaples.org/calendar/calendar17260\n\nBBYO  Youth Activity
DTSTART;TZID=America/New_York:20160317T180000
DTEND;TZID=America/New_York:20160317T180000
END:VEVENT
END:VCALENDAR
