BEGIN:VCALENDAR
PRODID:-//eluceo/ical//2.0/EN
VERSION:2.0
CALSCALE:GREGORIAN
BEGIN:VEVENT
UID:b476727c89fd53120f9817dd8dbfa9da
DTSTAMP:20260420T163512Z
SUMMARY:JCMI  Mah Jongg
DESCRIPTION:Jewish Federation of Greater Naples\nCommunity Calendar\nhttps:
 //jewishnaples.org/calendar/calendar17255\n\nJCMI  Mah Jongg
DTSTART;TZID=America/New_York:20160317T110000
DTEND;TZID=America/New_York:20160317T110000
END:VEVENT
END:VCALENDAR
