BEGIN:VCALENDAR
PRODID:-//eluceo/ical//2.0/EN
VERSION:2.0
CALSCALE:GREGORIAN
BEGIN:VEVENT
UID:33998433aced5e5480c8402d3c2042ca
DTSTAMP:20260419T224116Z
SUMMARY:JCMI  Bridge
DESCRIPTION:Jewish Federation of Greater Naples\nCommunity Calendar\nhttps:
 //jewishnaples.org/calendar/calendar17249\n\nJCMI  Bridge
DTSTART;TZID=America/New_York:20160316T130000
DTEND;TZID=America/New_York:20160316T130000
END:VEVENT
END:VCALENDAR
