BEGIN:VCALENDAR
PRODID:-//eluceo/ical//2.0/EN
VERSION:2.0
CALSCALE:GREGORIAN
BEGIN:VEVENT
UID:7109232b04669c6a70f9f222d03ea286
DTSTAMP:20260421T205042Z
SUMMARY:JCMI   Duplicate Bridge
DESCRIPTION:Jewish Federation of Greater Naples\nCommunity Calendar\nhttps:
 //jewishnaples.org/calendar/calendar17244\n\nJCMI   Duplicate Bridge
DTSTART;TZID=America/New_York:20160315T130000
DTEND;TZID=America/New_York:20160315T130000
END:VEVENT
END:VCALENDAR
