BEGIN:VCALENDAR
PRODID:-//eluceo/ical//2.0/EN
VERSION:2.0
CALSCALE:GREGORIAN
BEGIN:VEVENT
UID:c5b8da71f1a2b58c269f8abc7b34883a
DTSTAMP:20260422T085341Z
SUMMARY:JCMI  Book Club
DESCRIPTION:Jewish Federation of Greater Naples\nCommunity Calendar\nhttps:
 //jewishnaples.org/calendar/calendar17241\n\nJCMI  Book Club
DTSTART;TZID=America/New_York:20160315T110000
DTEND;TZID=America/New_York:20160315T110000
END:VEVENT
END:VCALENDAR
