BEGIN:VCALENDAR
PRODID:-//eluceo/ical//2.0/EN
VERSION:2.0
CALSCALE:GREGORIAN
BEGIN:VEVENT
UID:d0063f5f7485c20f12eed8a57d73b3d2
DTSTAMP:20260424T052516Z
SUMMARY:JCMI  Bingo
DESCRIPTION:Jewish Federation of Greater Naples\nCommunity Calendar\nhttps:
 //jewishnaples.org/calendar/calendar17238\n\nJCMI  Bingo
DTSTART;TZID=America/New_York:20160314T173000
DTEND;TZID=America/New_York:20160314T173000
END:VEVENT
END:VCALENDAR
