BEGIN:VCALENDAR
PRODID:-//eluceo/ical//2.0/EN
VERSION:2.0
CALSCALE:GREGORIAN
BEGIN:VEVENT
UID:2bb7aa0cebcd1b419b27f6c681d37be9
DTSTAMP:20260422T233201Z
SUMMARY:BT  Sunday School
DESCRIPTION:Jewish Federation of Greater Naples\nCommunity Calendar\nhttps:
 //jewishnaples.org/calendar/calendar17230\n\nBT  Sunday School
DTSTART;TZID=America/New_York:20160313T090000
DTEND;TZID=America/New_York:20160313T090000
END:VEVENT
END:VCALENDAR
