BEGIN:VCALENDAR
PRODID:-//eluceo/ical//2.0/EN
VERSION:2.0
CALSCALE:GREGORIAN
BEGIN:VEVENT
UID:2c26b03f1d0a49b277257e9576451e83
DTSTAMP:20260420T185200Z
SUMMARY:TS Services
DESCRIPTION:Jewish Federation of Greater Naples\nCommunity Calendar\nhttps:
 //jewishnaples.org/calendar/calendar17229\n\nTS Services
DTSTART;TZID=America/New_York:20160312T100000
DTEND;TZID=America/New_York:20160312T100000
END:VEVENT
END:VCALENDAR
