BEGIN:VCALENDAR
PRODID:-//eluceo/ical//2.0/EN
VERSION:2.0
CALSCALE:GREGORIAN
BEGIN:VEVENT
UID:fded31735a627be442a3d07caf82ff49
DTSTAMP:20260423T052038Z
SUMMARY:NJC Services
DESCRIPTION:Jewish Federation of Greater Naples\nCommunity Calendar\nhttps:
 //jewishnaples.org/calendar/calendar17223\n\nNJC Services
DTSTART;TZID=America/New_York:20160311T193000
DTEND;TZID=America/New_York:20160311T200000
END:VEVENT
END:VCALENDAR
