BEGIN:VCALENDAR
PRODID:-//eluceo/ical//2.0/EN
VERSION:2.0
CALSCALE:GREGORIAN
BEGIN:VEVENT
UID:19b5f83d3de01bbb892720191dd772e2
DTSTAMP:20260423T054715Z
SUMMARY:BT Service
DESCRIPTION:Jewish Federation of Greater Naples\nCommunity Calendar\nhttps:
 //jewishnaples.org/calendar/calendar17222\n\nBT Service
DTSTART;TZID=America/New_York:20160311T181500
DTEND;TZID=America/New_York:20160311T181500
END:VEVENT
END:VCALENDAR
