BEGIN:VCALENDAR
PRODID:-//eluceo/ical//2.0/EN
VERSION:2.0
CALSCALE:GREGORIAN
BEGIN:VEVENT
UID:dd282d3168c4328d6ff8248cf80fb31b
DTSTAMP:20260422T171932Z
SUMMARY:HJH  Board Meeting
DESCRIPTION:Jewish Federation of Greater Naples\nCommunity Calendar\nhttps:
 //jewishnaples.org/calendar/calendar17221\n\nHJH  Board Meeting
DTSTART;TZID=America/New_York:20160311T093000
DTEND;TZID=America/New_York:20160311T093000
END:VEVENT
END:VCALENDAR
