BEGIN:VCALENDAR
PRODID:-//eluceo/ical//2.0/EN
VERSION:2.0
CALSCALE:GREGORIAN
BEGIN:VEVENT
UID:0164238da8f1ed41a56899e41c8925fd
DTSTAMP:20260423T083215Z
SUMMARY:CHA  Circle of Hearts & Partner Appreciation Evening
DESCRIPTION:Jewish Federation of Greater Naples\nCommunity Calendar\nhttps:
 //jewishnaples.org/calendar/calendar17217\n\nCHA  Circle of Hearts & Partn
 er Appreciation Evening
DTSTART;TZID=America/New_York:20160310T180000
DTEND;TZID=America/New_York:20160310T180000
END:VEVENT
END:VCALENDAR
