BEGIN:VCALENDAR
PRODID:-//eluceo/ical//2.0/EN
VERSION:2.0
CALSCALE:GREGORIAN
BEGIN:VEVENT
UID:8624b8c5afba17e52bc934dbe65ea26e
DTSTAMP:20260421T224115Z
SUMMARY:HM Executive Committee Meeting
DESCRIPTION:Jewish Federation of Greater Naples\nCommunity Calendar\nhttps:
 //jewishnaples.org/calendar/calendar17215\n\nHM Executive Committee Meetin
 g
DTSTART;TZID=America/New_York:20160310T150000
DTEND;TZID=America/New_York:20160310T150000
END:VEVENT
END:VCALENDAR
