BEGIN:VCALENDAR
PRODID:-//eluceo/ical//2.0/EN
VERSION:2.0
CALSCALE:GREGORIAN
BEGIN:VEVENT
UID:9bd29aa18cbeb59a016f2a5504fbb4f9
DTSTAMP:20260424T093231Z
SUMMARY:TS  Adult B'nai Mitzvah class
DESCRIPTION:Jewish Federation of Greater Naples\nCommunity Calendar\nhttps:
 //jewishnaples.org/calendar/calendar17208\n\nTS  Adult B'nai Mitzvah class
DTSTART;TZID=America/New_York:20160309T183000
DTEND;TZID=America/New_York:20160309T183000
END:VEVENT
END:VCALENDAR
