BEGIN:VCALENDAR
PRODID:-//eluceo/ical//2.0/EN
VERSION:2.0
CALSCALE:GREGORIAN
BEGIN:VEVENT
UID:c018496227ff25a7406f9afbaf481916
DTSTAMP:20260422T031521Z
SUMMARY:JFCC Board Meeting
DESCRIPTION:Jewish Federation of Greater Naples\nCommunity Calendar\nhttps:
 //jewishnaples.org/calendar/calendar17200\n\nJFCC Board Meeting
DTSTART;TZID=America/New_York:20160308T193000
DTEND;TZID=America/New_York:20160308T193000
END:VEVENT
END:VCALENDAR
