BEGIN:VCALENDAR
PRODID:-//eluceo/ical//2.0/EN
VERSION:2.0
CALSCALE:GREGORIAN
BEGIN:VEVENT
UID:d7d9e6fe3667f73dd0820193c70ad6b4
DTSTAMP:20260422T113047Z
SUMMARY:BT Youth Education
DESCRIPTION:Jewish Federation of Greater Naples\nCommunity Calendar\nhttps:
 //jewishnaples.org/calendar/calendar172\n\n&nbsp
DTSTART;TZID=America/New_York:20141026T090000
DTEND;TZID=America/New_York:20141026T090000
END:VEVENT
END:VCALENDAR
