BEGIN:VCALENDAR
PRODID:-//eluceo/ical//2.0/EN
VERSION:2.0
CALSCALE:GREGORIAN
BEGIN:VEVENT
UID:296528151a103299bb841c3fb0b03ca2
DTSTAMP:20260424T014749Z
SUMMARY:JBF  Presentations
DESCRIPTION:Jewish Federation of Greater Naples\nCommunity Calendar\nhttps:
 //jewishnaples.org/calendar/calendar17198\n\nJBF  Presentations
DTSTART;TZID=America/New_York:20160308T183000
DTEND;TZID=America/New_York:20160308T183000
END:VEVENT
END:VCALENDAR
